Workbook
Name A: #REF!
Name AnnTotGen_woStrg1: #REF!
Name AnnTotGen_woStrg2: #REF!
Name AnnTotGen_woStrg3: #REF!
Name AnnTotGen_woStrg4: #REF!
Name AnnTotGen1: 'Part VI - Prod Data (Phase 2)'!$Y$132
Name AnnTotGen1: 'Part VI - Prod Data (Phase 1)'!$Y$132
Name AnnTotGen2: #REF!
Name AnnTotGen3: #REF!
Name AnnTotGen4: #REF!
Name AnnTotMWH1: #REF!
Name AnnTotMWH2: #REF!
Name AnnTotMWH3: #REF!
Name AnnTotMWH4: #REF!
Name AvailFac: #REF!
Name AvailFac2: #REF!
Name AvailFac3: #REF!
Name AvailFac4: #REF!
Name BidderName: 'Part II-Certifications'!$F$52
Name BidderName: #REF!
Name BidderRep: 'Part II-Certifications'!$F$55
Name BidderRep: #REF!
Name BidderRepTitle: 'Part II-Certifications'!$D$57
Name BidderRepTitle: #REF!
Name Caddr1: 'Part II-Certifications'!$E$76
Name Caddr1: #REF!
Name Caddr1_2: 'Part II-Certifications'!$E$87
Name Caddr1_2: #REF!
Name Caddr2: 'Part II-Certifications'!$E$77
Name Caddr2: #REF!
Name Caddr2_2: 'Part II-Certifications'!$E$88
Name Caddr2_2: #REF!
Name CalcStorEff1: #REF!
Name CalcStorEff2: #REF!
Name CalcStorEff3: #REF!
Name CalcStorEff4: #REF!
Name CapFac: #REF!
Name CapFac2: #REF!
Name CapFac3: #REF!
Name CapFac4: #REF!
Name CapGross: #REF!
Name CapGross2: #REF!
Name CapGross3: #REF!
Name CapGross4: #REF!
Name CapNet: #REF!
Name CapNet2: #REF!
Name CapNet3: #REF!
Name CapNet4: #REF!
Name CntMax: #REF!
Name CntMax2: #REF!
Name CntMax3: #REF!
Name CntMax4: #REF!
Name CntName: 'Part II-Certifications'!$E$73
Name CntName: #REF!
Name CntName_2: 'Part II-Certifications'!$E$84
Name CntName_2: #REF!
Name EligBidCategory: 'Part III-Submission ID'!#REF!
Name Email: 'Part II-Certifications'!$E$79
Name Email: #REF!
Name Email_2: 'Part II-Certifications'!$E$90

Sheet Part I-Instuctions
B3: Duke OSW ARFI Submission Uptake Form_UPDATED 04.17.2025
B5: Part I
F6: Guidelines and Instructions
B8: Duke Energy OSW ARFI Submission Uptake Form
B43: =B3 -> Duke OSW ARFI Submission Uptake Form_UPDATED 04.17.2025
B45: Part I (continued)
F46: Guidelines and Instructions
K81: END

Sheet Part II-Certifications
B3: ='Part I-Instuctions'!B3 -> Duke OSW ARFI Submission Uptake Form_UPDATED 04.17.2025
B5: Part II (a)
B6: Submission Certification and Authorization Form
C47: Project File Name | F47: Required Information
C48: As Submitted to the ARFI Submission Portal, see Part I-Instructions
C50: Project Title(s) | F50: Required Information
C52: Submitting Party's Name | F52: Required Information
C54: Submitting Party or
C55: Authorized Representative | F55: Required Information
D58: Submitting Party Representative's Title | I58: Date
D61: Signature of Submitting Party or Authorized Representative
B67: ='Part I-Instuctions'!B3 -> Duke OSW ARFI Submission Uptake Form_UPDATED 04.17.2025
B69: Part II (b)
B70: Bidder and Contact Information
C72: Contact Information For Project
C73: Name | E73: Required Information
C74: Mailing Address | E74: Required Information
C76: Courier Address
C77: (if different)
C78: Telephone Number | E78: Required Information
C79: E-mail Address | E79: Required Information
C83: Alternate Contact (Optional)
C84: Name
C85: Mailing Address
C87: Courier Address
C88: (if different)
C89: Telephone Number
C90: E-mail Address
M93: END

Sheet Part III-Submission ID
B3: ='Part I-Instuctions'!B3 -> Duke OSW ARFI Submission Uptake Form_UPDATED 04.17.2025
B5: Part III
B6: Submission Identification and Definitions
C9: Submitting Party's Name | G9: ='Part II-Certifications'!F50 -> Required Information | Q9: =IF(G9="","<<< Enter Information in Part II","")
C11: Project Title | G11: ='Part II-Certifications'!F50 -> Required Information | Q11: =IF(G11="","<<< Enter Information in Part II","")
C14: Provide a summary description of the following:
C16: How this proposal meets the definition of "Offshore Wind Energy Generation"
C17: Required Information
Q18: =IF(C17="","<<< Required Information","")
C22: How the developer of this Submission meets the definition of "Offshore Wind Developer"
C23: Required Information
Q24: =IF(C23="","<<< Required Information","")
Q30: END

Sheet Part IV(a-c) - SiteProject Desc
B3: ='Part I-Instuctions'!B3 -> Duke OSW ARFI Submission Uptake Form_UPDATED 04.17.2025
B5: Part IV (a), (b), & (c)
B6: Site Project Description (Conditions, Project Design Elements, & Logistics and Vessel Plan)
C14: Part IV (a)
C15: Site Conditions
G20: Required Inputs
D22: Water depth range within the Project envelope | E22: Min | H22: meters
E23: Max | H23: meters
D25: Mean water depth at proposed turbine locations | H25: meters
D27: Mean air density | H27: kg/m3
D29: Long-term average wind speed by month at hub height | E29: Jan | H29: meters/sec
E30: Feb | H30: meters/sec
E31: Mar | H31: meters/sec
E32: Apr | H32: meters/sec
E33: May | H33: meters/sec
E34: Jun | H34: meters/sec
E35: Jul | H35: meters/sec
E36: Aug | H36: meters/sec
E37: Sep | H37: meters/sec
E38: Oct | H38: meters/sec
E39: Nov | H39: meters/sec
E40: Dec | H40: meters/sec
D42: Extreme wind speed at hub height | E42: Return period (years)
E43: 1 | F43: 5 | G43: 10 | H43: 50 | I43: 100
D44: 10 min
D45: 1 min
D46: 3 sec gust
D48: Waves | E48: Return period (years)
E49: 1 | F49: 5 | G49: 10 | H49: 50 | I49: 100
D50: Maximum individual wave height (m)
D51: Associated period (s)
D52: Significant wave height (m)
D54: Sea temperature | E54: Lowest | H54: degrees C
E55: Highest | H55: degrees C
D57: Measurement Methodology | E57: Response
D58: On-site wind resource measurement device
D59: On-site wind resource measurement duration
D60: On-site wind resource measurement data capture percentage
D61: Long term wind resource measurement reference used to extend on-site data
D62: Long term wind resource measurement reference data period
...

Sheet Part IV(d) - Project Schedule
B3: ='Part I-Instuctions'!B3 -> Duke OSW ARFI Submission Uptake Form_UPDATED 04.17.2025
B5: Part IV (d)
B6: Project Schedule
E12: Phase 1 - Required | G12: Phase 2 - Optional | I12: Optional
C13: Category | D13: Milestones | E13: Capacity (MW) | F13: Proposed Date (MM/YYYY) | G13: Capacity (MW) | H13: Proposed Date (MM/YYYY) | I13: Notes
C14: Permitting | D14: SAP Submitted
D15: SAP Approved
D16: Submission of COP
D17: Draft Environmental Impact Statement (EIS)
D18: Final EIS
D19: BOEM COP Approval
D20: BOEM Record of Decision (ROD)
D21: FDR/FIR Approval
D22: All state permits received
D23: All local approvals received
D25: MORE DETAILED REQUESTS
D26: Environmental Protection Agency (Air Permit)
D27: National Historic Preservation Act (NHPA)
... D31: Federal Consistency Review(s) Issued
B33: ='Part I-Instuctions'!B3 -> Duke OSW ARFI Submission Uptake Form_UPDATED 04.17.2025
E34: Phase 1 - Required | G34: Phase 2 - Optional | I34: Optional
C35: Category | D35: Milestones | E35: Capacity (MW) | F35: Proposed Date (MM/YYYY) | G35: Capacity (MW) | H35: Proposed Date (MM/YYYY) | I35: Notes
C36: Major components (offshore) | D36: Offshore substation foundation supply contract executed
D37: Offshore substation foundation fabrication start
D38: Offshore substation foundation fabrication end
D39: Offshore substation foundation installation start
D40: Offshore substation fouundation installation end
D42: Offshore substation topside supply contract executed
D43: Offshore substation topside fabrication start
D44: Offshore substation topside fabrication end
D45: Offshore substation topside installation start
D46: Offshore substation topside installation end
D47: Offshore substation testing and commissioning completion
D48: Offshore substation energization
D50: Monopile supply contract executed
... D83: Export cable energization
B85: ='Part I-Instuctions'!B3 -> Duke OSW ARFI Submission Uptake Form_UPDATED 04.17.2025
E87: Phase 1 - Required | G87: Phase 2 - Optional | I87: Optional
C88: Category | D88: Milestones | E88: Capacity (MW) | F88: Proposed Date (MM/YYYY) | G88: Capacity (MW) | H88: Proposed Date (MM/YYYY) | I88: Notes
C89: Major components (onshore) | D89: Landfall / HDD civil works start
...

Sheet Part IV(e) - O&M Proposal
B3: ='Part I-Instuctions'!B3 -> Duke OSW ARFI Submission Uptake Form_UPDATED 04.17.2025
B5: Part IV (e)
B6: Operations and Maintenance Cost
C12: Phase 1 - Required
C14: Operations Year | D14: Capacity (MW) | E14: Marine Logistics | F14: O&M Facilties and On-Shore Equipment | G14: Routine Maintenance | H14: Equipment Replacement | I14: Maintenance / Replacement Reserves | J14: Lease Fees | K14: Environmental and Stakeholder Costs | L14: Legal and Administrative | M14: OTHER - Please Specify | N14: Total Operations and Maintenance
C15: 0 | N15: =SUM(E15:M15) -> 0
C16: 1 | N16: =SUM(E16:M16) -> 0
C17: 2 | N17: =SUM(E17:M17) -> 0
C18: 3 | N18: =SUM(E18:M18) -> 0
C19: 4 | N19: =SUM(E19:M19) -> 0
C20: 5 | N20: =SUM(E20:M20) -> 0
C21: 6 | N21: =SUM(E21:M21) -> 0
C22: 7 | N22: =SUM(E22:M22) -> 0
C23: 8 | N23: =SUM(E23:M23) -> 0
C24: 9 | N24: =SUM(E24:M24) -> 0
C25: 10 | N25: =SUM(E25:M25) -> 0
C26: 11 | N26: =SUM(E26:M26) -> 0
... C45: 30 | N45: =SUM(E45:M45) -> 0
B48: ='Part I-Instuctions'!B3 -> Duke OSW ARFI Submission Uptake Form_UPDATED 04.17.2025
B50: Part IV (e)
B51: Operations and Maintenance Cost
H53: Phase 2 - Optional
F55: O&M Facilties and On-Shore Equipment | I55: Maintenance / Replacement Reserves | K55: Environmental and Stakeholder Costs | L55: Legal and Administrative | M55: OTHER - Please Specify | N55: Total Operations and Maintenance
C56: Operations Year | D56: Capacity (MW) | E56: Marine Logistics | G56: Routine Maintenance | H56: Equipment Replacement | J56: Lease Fees
C57: 0 | N57: =SUM(E57:M57) -> 0
C58: 1 | N58: =SUM(E58:M58) -> 0
C59: 2 | N59: =SUM(E59:M59) -> 0
C60: 3 | N60: =SUM(E60:M60) -> 0
C61: 4 | N61: =SUM(E61:M61) -> 0
C62: 5 | N62: =SUM(E62:M62) -> 0
C63: 6 | N63: =SUM(E63:M63) -> 0
C64: 7 | N64: =SUM(E64:M64) -> 0
C65: 8 | N65: =SUM(E65:M65) -> 0
C66: 9 | N66: =SUM(E66:M66) -> 0
C67: 10 | N67: =SUM(E67:M67) -> 0
C68: 11 | N68: =SUM(E68:M68) -> 0
... C87: 30 | N87: =SUM(E87:M87) -> 0
P91: END

Sheet Part IV(f) - Decommissioning
B3: ='Part I-Instuctions'!B3 -> Duke OSW ARFI Submission Uptake Form_UPDATED 04.17.2025
B5: Part IV (f)
B6: Decomissioning Costs
C16: Required Inputs
D17: Decommissioning start date
D18: Decommissioning end date
C20: =SUM(C21:C26) -> 0 | D20: Total cost to remove Project infrastructure according to US Code of Federal Regulations, Part 585
D21: Removal of turbines and towers
D22: Removal of foundations and substructures
D23: Removal of inter-array cabling and transformation
D24: Removal of offshore substation
D25: Removal of export cabling
D26: Miscellaneous removal costs
P30: END

Sheet Part V(a)&(b) - CashFlow & Pmts
B3: ='Part I-Instuctions'!B3 -> Duke OSW ARFI Submission Uptake Form_UPDATED 04.17.2025
C5: Part V (a) and (b)(i-iii) | L5: Part V (b)
C6: Project Cash Flows and Milestone Payments | L6: Project Pricing
L19: Part V(b)(i)
L20: Total Project Price to Utilities - Lump Sum (Single Payment)
L22: 0 | O22: Required for Minimum Qualifying Submission, Single Payment of Total Project Price Upon Placed in Service. Optional for Alternative Submissions.
C29: Part V (a) | L29: Part V(b) (ii) | T29: Part V(b) (iii)
C30: Commercial Operations | D30: Year | E30: Quarter | F30: Capacity (MW) | L30: Total Project Price to Utilities - Payment Milestones | T30: Total Project Price to Utilities - Price Price Components
C31: Phase 1 | G31: Required Fields
C32: Phase 2 | G32: Optional
E34: Required Fields | N34: Optional | U34: Required Fields
C35: Phase 1 | L35: Phase 1 | T35: Phase 1
C36: Time Period | L36: Time Period | P36: Percentage (%) | T36: Project Price Detail | U36: Amount ($) | V36: Notes
C37: Year | D37: Quarter | E37: Project Milestone | G37: Cash Flow ($) | H37: Cash Flow Explanation | L37: Year | M37: Quarter | N37: Payment Milestones | O37: Amount ($) | AC37: Time Period
C38: 2025 | D38: 1 | M38: 4 | T38: Development Expenses | AC38: Year | AD38: Quarter
T39: Turbine Supply | AC39: 2037 | AD39: 1
T40: Turbine Transport and Installation (T&I) | AC40: 2036 | AD40: 2
T41: Monopile Design and Fabrication | AC41: 2035 | AD41: 3
T42: Transition Piece (TP) Design and Fabrication | AC42: 2034 | AD42: 4
T43: Monopile and TP T&I | AC43: 2033
T44: Inter-array cabling and installation | AC44: 2032
T45: Export cabling and installation | AC45: 2031
T46: Onshore Cabling and Installation | AC46: 2030
T47: Shore Landing Civil Work | AC47: 2029
T48: Onshore Substation and Installation | AC48: 2028
T49: Onshore O&M Facilities | AC49: 2027
T50: Interconnection and HVDC Cabling | AC50: 2026
T51: Construction Management and Permitting/Compliance | AC51: 2025
T52: Contingency and Risk
T53: Insurance
T54: Development Fee
T55: Margin
T56: Construction Financing
T57: Other | V57: (Please replace title and explain in Notes)
D97: 4 | H97: (Include all prior expenses)
E99: Optional | N99: Optional | U99: Optional
C100: Phase 2 | L100: Phase 2 | T100: Phase 2
C101: Time Period | L101: Time Period | P101: Percentage (%) | T101: Project Price Detail | U101: Amount ($) | V101: Notes
C102: Year | D102: Quarter | E102: Project Milestone | G102: Cash Flow ($) | H102: Cash Flow Explanation | L102: Year | M102: Quarter | N102: Payment Milestones | O102: Amount ($) | AC102: Time Period
D103: 2 | M103: 4 | T103: Development Expenses | AC103: Year | AD103: Quarter
...

Sheet Part VI - Prod Data (Phase 1)
B3: ='Part I-Instuctions'!B3 -> Duke OSW ARFI Submission Uptake Form_UPDATED 04.17.2025 | R3: ='Part I-Instuctions'!B3 -> Duke OSW ARFI Submission Uptake Form_UPDATED 04.17.2025 | AD3: Hourly Profile | AJ3: ='Part I-Instuctions'!B3 -> Duke OSW ARFI Submission Uptake Form_UPDATED 04.17.2025
B4: Part VI | R4: Part VI (a) | AJ4: Part VI (a) (i)
B5: Prodution Data | R5: Operational Information - Production Data of Offshore Wind Project | AJ5: Representative Deliveries in Representative Year
R6: Hourly Delivery in MW (Averaged) - 12 Months by 24 Hours For Representative Day For Each Month | AK6: Enter data for a single year representative of the Project's 30-year average production
AL7: Projects must provide 8,760 hourly energy production data. From the hourly energy production data, the 30-year average in MW, inclusive of wake losses, suboptimal performance, environmental losses and electrical losses will be calculated automatically and will populate Part VI(a). For the avoidance of doubt, hourly production values should represent energy delivered to the POI assuming 100% turbine and balance of plant availability.
S8: You must insert an Hourly Profile, do so to the right by completing VI(a)(i). Table Part VI (a) below will be populated automatically from your data entered in Part V(a)(i), creating the project's 12 x 24 annual energy production inclusive of wake losses, suboptimal performance, environmental losses, and electrical losses. Downtime associated with O&M including planned or unplanned maintenance is not included and will be covered by Part VI (b) and Part VI (c) below.
C10: Legend | AL10: Check: | AM10: =IF($BR$14=8760,"OK","8,760 Hourly Values Missing") -> 8,760 Hourly Values Missing
D11: Grey cell is automatically calculated | AI11: =IF(AG14<(12*24),"Table VI(a) is incomplete, please enter all hourly profiles in VI (a) (i) >>>","OK") -> Table VI(a) is incomplete, please enter all hourly profiles in VI (a) (i) >>> | AJ11: JANUARY
D12: White cell is to be updated by the WEA Leaseholder
C13: =AVERAGE(J49:J78)-(SUM(AL15:BP38)+SUM(AL48:BN71)+SUM(AL79:BP102)+SUM(AL110:BO133)+SUM(AL141:BP164)+SUM(AL172:BO195)+SUM(AL203:BP226)+SUM(AL234:BP257)+SUM(AL265:BO288)+SUM(AL296:BP319)+SUM(AL327:BO350)+SUM(AL358:BP381)) -> 0 | D13: If sheet is filled out correctly, value to the immediate left should be zero | AK13: HE | AL13: 1 | AM13: 2 | AN13: 3 | AO13: 4 | AP13: 5 | AQ13: 6 | AR13: 7 | AS13: 8 | AT13: 9 | AU13: 10 | AV13: 11 | AW13: 12 | AX13: 13 | AY13: 14 | AZ13: 15 | BA13: 16 | BB13: 17 | BC13: 18 | BD13: 19 | BE13: 20 | BF13: 21 | BG13: 22 | BH13: 23 | BI13: 24 | BJ13: 25 | BK13: 26 | BL13: 27 | BM13: 28 | BN13: 29 | BO13: 30 | BP13: 31 | BQ13: Month
D14: Pre-populated | S14: HE | T14: Jan | U14: Feb | V14: Mar | W14: Apr | X14: May | Y14: Jun | Z14: Jul | AA14: Aug | AB14: Sep | AC14: Oct | AD14: Nov | AE14: Dec | AG14: =COUNT(T15:AE38) -> 0 | BQ14: Avg | BR14: =COUNT(AL15:BP38,AL48:BN71,AL79:BP102,AL110:BO133,AL141:BP164,AL172:BO195,AL203:BP226,AL234:BP257,AL265:BO288,AL296:BP319,AL327:BO350,AL358:BP381) -> 0
S15: 1 | T15: =IF($AD$3="Hourly Profile",BQ15,"") | U15: =IF($AD$3="Hourly Profile",BQ48,"") | V15: =IF($AD$3="Hourly Profile",BQ79,"") | W15: =IF($AD$3="Hourly Profile",BQ110,"") | X15: =IF($AD$3="Hourly Profile",BQ141,"") | Y15: =IF($AD$3="Hourly Profile",BQ172,"") | Z15: =IF($AD$3="Hourly Profile",BQ203,"") | AA15: =IF($AD$3="Hourly Profile",BQ234,"") | AB15: =IF($AD$3="Hourly Profile",BQ265,"") | AC15: =IF($AD$3="Hourly Profile",BQ296,"") | AD15: =IF($AD$3="Hourly Profile",BQ327,"") | AE15: =IF($AD$3="Hourly Profile",BQ358,"") | AK15: 1 | BQ15: =IFERROR(AVERAGE(AL15:BP15),"")
C16: Complete the fields below | S16: 2 | T16: =IF($AD$3="Hourly Profile",BQ16,"") | U16: =IF($AD$3="Hourly Profile",BQ49,"") | V16: =IF($AD$3="Hourly Profile",BQ80,"") | W16: =IF($AD$3="Hourly Profile",BQ111,"") | X16: =IF($AD$3="Hourly Profile",BQ142,"") | Y16: =IF($AD$3="Hourly Profile",BQ173,"") | Z16: =IF($AD$3="Hourly Profile",BQ204,"") | AA16: =IF($AD$3="Hourly Profile",BQ235,"") | AB16: =IF($AD$3="Hourly Profile",BQ266,"") | AC16: =IF($AD$3="Hourly Profile",BQ297,"") | AD16: =IF($AD$3="Hourly Profile",BQ328,"") | AE16: =IF($AD$3="Hourly Profile",BQ359,"") | AK16: 2 | BQ16: =IFERROR(AVERAGE(AL16:BP16),"")
C17: Eligible Facility Location | E17: Latitude | S17: 3 | T17: =IF($AD$3="Hourly Profile",BQ17,"") | U17: =IF($AD$3="Hourly Profile",BQ50,"") | V17: =IF($AD$3="Hourly Profile",BQ81,"") | W17: =IF($AD$3="Hourly Profile",BQ112,"") | X17: =IF($AD$3="Hourly Profile",BQ143,"") | Y17: =IF($AD$3="Hourly Profile",BQ174,"") | Z17: =IF($AD$3="Hourly Profile",BQ205,"") | AA17: =IF($AD$3="Hourly Profile",BQ236,"") | AB17: =IF($AD$3="Hourly Profile",BQ267,"") | AC17: =IF($AD$3="Hourly Profile",BQ298,"") | AD17: =IF($AD$3="Hourly Profile",BQ329,"") | AE17: =IF($AD$3="Hourly Profile",BQ360,"") | AK17: 3 | BQ17: =IFERROR(AVERAGE(AL17:BP17),"")
E18: Longitude | S18: 4 | T18: =IF($AD$3="Hourly Profile",BQ18,"") | U18: =IF($AD$3="Hourly Profile",BQ51,"") | V18: =IF($AD$3="Hourly Profile",BQ82,"") | W18: =IF($AD$3="Hourly Profile",BQ113,"") | X18: =IF($AD$3="Hourly Profile",BQ144,"") | Y18: =IF($AD$3="Hourly Profile",BQ175,"") | Z18: =IF($AD$3="Hourly Profile",BQ206,"") | AA18: =IF($AD$3="Hourly Profile",BQ237,"") | AB18: =IF($AD$3="Hourly Profile",BQ268,"") | AC18: =IF($AD$3="Hourly Profile",BQ299,"") | AD18: =IF($AD$3="Hourly Profile",BQ330,"") | AE18: =IF($AD$3="Hourly Profile",BQ361,"") | AK18: 4 | BQ18: =IFERROR(AVERAGE(AL18:BP18),"")
C19: Turbine capacity | E19: MW | S19: 5 | T19: =IF($AD$3="Hourly Profile",BQ19,"") | U19: =IF($AD$3="Hourly Profile",BQ52,"") | V19: =IF($AD$3="Hourly Profile",BQ83,"") | W19: =IF($AD$3="Hourly Profile",BQ114,"") | X19: =IF($AD$3="Hourly Profile",BQ145,"") | Y19: =IF($AD$3="Hourly Profile",BQ176,"") | Z19: =IF($AD$3="Hourly Profile",BQ207,"") | AA19: =IF($AD$3="Hourly Profile",BQ238,"") | AB19: =IF($AD$3="Hourly Profile",BQ269,"") | AC19: =IF($AD$3="Hourly Profile",BQ300,"") | AD19: =IF($AD$3="Hourly Profile",BQ331,"") | AE19: =IF($AD$3="Hourly Profile",BQ362,"") | AG19: =IF(AND(AG18<288,AD3="12 Months by 24 Hours"),"<<< Full Matrix is Required Information","") | AK19: 5 | BQ19: =IFERROR(AVERAGE(AL19:BP19),"")
C20: Number of turbines | E20: # | S20: 6 | T20: =IF($AD$3="Hourly Profile",BQ20,"") | U20: =IF($AD$3="Hourly Profile",BQ53,"") | V20: =IF($AD$3="Hourly Profile",BQ84,"") | W20: =IF($AD$3="Hourly Profile",BQ115,"") | X20: =IF($AD$3="Hourly Profile",BQ146,"") | Y20: =IF($AD$3="Hourly Profile",BQ177,"") | Z20: =IF($AD$3="Hourly Profile",BQ208,"") | AA20: =IF($AD$3="Hourly Profile",BQ239,"") | AB20: =IF($AD$3="Hourly Profile",BQ270,"") | AC20: =IF($AD$3="Hourly Profile",BQ301,"") | AD20: =IF($AD$3="Hourly Profile",BQ332,"") | AE20: =IF($AD$3="Hourly Profile",BQ363,"") | AK20: 6 | BQ20: =IFERROR(AVERAGE(AL20:BP20),"")
C21: Hub height | E21: m | S21: 7 | T21: =IF($AD$3="Hourly Profile",BQ21,"") | U21: =IF($AD$3="Hourly Profile",BQ54,"") | V21: =IF($AD$3="Hourly Profile",BQ85,"") | W21: =IF($AD$3="Hourly Profile",BQ116,"") | X21: =IF($AD$3="Hourly Profile",BQ147,"") | Y21: =IF($AD$3="Hourly Profile",BQ178,"") | Z21: =IF($AD$3="Hourly Profile",BQ209,"") | AA21: =IF($AD$3="Hourly Profile",BQ240,"") | AB21: =IF($AD$3="Hourly Profile",BQ271,"") | AC21: =IF($AD$3="Hourly Profile",BQ302,"") | AD21: =IF($AD$3="Hourly Profile",BQ333,"") | AE21: =IF($AD$3="Hourly Profile",BQ364,"") | AK21: 7 | BQ21: =IFERROR(AVERAGE(AL21:BP21),"")
S22: 8 | T22: =IF($AD$3="Hourly Profile",BQ22,"") | U22: =IF($AD$3="Hourly Profile",BQ55,"") | V22: =IF($AD$3="Hourly Profile",BQ86,"") | W22: =IF($AD$3="Hourly Profile",BQ117,"") | X22: =IF($AD$3="Hourly Profile",BQ148,"") | Y22: =IF($AD$3="Hourly Profile",BQ179,"") | Z22: =IF($AD$3="Hourly Profile",BQ210,"") | AA22: =IF($AD$3="Hourly Profile",BQ241,"") | AB22: =IF($AD$3="Hourly Profile",BQ272,"") | AC22: =IF($AD$3="Hourly Profile",BQ303,"") | AD22: =IF($AD$3="Hourly Profile",BQ334,"") | AE22: =IF($AD$3="Hourly Profile",BQ365,"") | AK22: 8 | BQ22: =IFERROR(AVERAGE(AL22:BP22),"")
C23: Annual average wind speed at hub height across turbine locations | S23: 9 | T23: =IF($AD$3="Hourly Profile",BQ23,"") | U23: =IF($AD$3="Hourly Profile",BQ56,"") | V23: =IF($AD$3="Hourly Profile",BQ87,"") | W23: =IF($AD$3="Hourly Profile",BQ118,"") | X23: =IF($AD$3="Hourly Profile",BQ149,"") | Y23: =IF($AD$3="Hourly Profile",BQ180,"") | Z23: =IF($AD$3="Hourly Profile",BQ211,"") | AA23: =IF($AD$3="Hourly Profile",BQ242,"") | AB23: =IF($AD$3="Hourly Profile",BQ273,"") | AC23: =IF($AD$3="Hourly Profile",BQ304,"") | AD23: =IF($AD$3="Hourly Profile",BQ335,"") | AE23: =IF($AD$3="Hourly Profile",BQ366,"") | AK23: 9 | BQ23: =IFERROR(AVERAGE(AL23:BP23),"")
E24: m/s | S24: 10 | T24: =IF($AD$3="Hourly Profile",BQ24,"") | U24: =IF($AD$3="Hourly Profile",BQ57,"") | V24: =IF($AD$3="Hourly Profile",BQ88,"") | W24: =IF($AD$3="Hourly Profile",BQ119,"") | X24: =IF($AD$3="Hourly Profile",BQ150,"") | Y24: =IF($AD$3="Hourly Profile",BQ181,"") | Z24: =IF($AD$3="Hourly Profile",BQ212,"") | AA24: =IF($AD$3="Hourly Profile",BQ243,"") | AB24: =IF($AD$3="Hourly Profile",BQ274,"") | AC24: =IF($AD$3="Hourly Profile",BQ305,"") | AD24: =IF($AD$3="Hourly Profile",BQ336,"") | AE24: =IF($AD$3="Hourly Profile",BQ367,"") | AK24: 10 | BQ24: =IFERROR(AVERAGE(AL24:BP24),"")
S25: 11 | T25: =IF($AD$3="Hourly Profile",BQ25,"") | U25: =IF($AD$3="Hourly Profile",BQ58,"") | V25: =IF($AD$3="Hourly Profile",BQ89,"") | W25: =IF($AD$3="Hourly Profile",BQ120,"") | X25: =IF($AD$3="Hourly Profile",BQ151,"") | Y25: =IF($AD$3="Hourly Profile",BQ182,"") | Z25: =IF($AD$3="Hourly Profile",BQ213,"") | AA25: =IF($AD$3="Hourly Profile",BQ244,"") | AB25: =IF($AD$3="Hourly Profile",BQ275,"") | AC25: =IF($AD$3="Hourly Profile",BQ306,"") | AD25: =IF($AD$3="Hourly Profile",BQ337,"") | AE25: =IF($AD$3="Hourly Profile",BQ368,"") | AK25: 11 | BQ25: =IFERROR(AVERAGE(AL25:BP25),"")
C26: Gross energy (annual 30-year average) | D26: =AVERAGE(D49:D78) -> #DIV/0! | E26: MWh/year | S26: 12 | T26: =IF($AD$3="Hourly Profile",BQ26,"") | U26: =IF($AD$3="Hourly Profile",BQ59,"") | V26: =IF($AD$3="Hourly Profile",BQ90,"") | W26: =IF($AD$3="Hourly Profile",BQ121,"") | X26: =IF($AD$3="Hourly Profile",BQ152,"") | Y26: =IF($AD$3="Hourly Profile",BQ183,"") | Z26: =IF($AD$3="Hourly Profile",BQ214,"") | AA26: =IF($AD$3="Hourly Profile",BQ245,"") | AB26: =IF($AD$3="Hourly Profile",BQ276,"") | AC26: =IF($AD$3="Hourly Profile",BQ307,"") | AD26: =IF($AD$3="Hourly Profile",BQ338,"") | AE26: =IF($AD$3="Hourly Profile",BQ369,"") | AK26: 12 | BQ26: =IFERROR(AVERAGE(AL26:BP26),"")
S27: 13 | T27: =IF($AD$3="Hourly Profile",BQ27,"") | U27: =IF($AD$3="Hourly Profile",BQ60,"") | V27: =IF($AD$3="Hourly Profile",BQ91,"") | W27: =IF($AD$3="Hourly Profile",BQ122,"") | X27: =IF($AD$3="Hourly Profile",BQ153,"") | Y27: =IF($AD$3="Hourly Profile",BQ184,"") | Z27: =IF($AD$3="Hourly Profile",BQ215,"") | AA27: =IF($AD$3="Hourly Profile",BQ246,"") | AB27: =IF($AD$3="Hourly Profile",BQ277,"") | AC27: =IF($AD$3="Hourly Profile",BQ308,"") | AD27: =IF($AD$3="Hourly Profile",BQ339,"") | AE27: =IF($AD$3="Hourly Profile",BQ370,"") | AK27: 13 | BQ27: =IFERROR(AVERAGE(AL27:BP27),"")
C28: Annual average losses | S28: 14 | T28: =IF($AD$3="Hourly Profile",BQ28,"") | U28: =IF($AD$3="Hourly Profile",BQ61,"") | V28: =IF($AD$3="Hourly Profile",BQ92,"") | W28: =IF($AD$3="Hourly Profile",BQ123,"") | X28: =IF($AD$3="Hourly Profile",BQ154,"") | Y28: =IF($AD$3="Hourly Profile",BQ185,"") | Z28: =IF($AD$3="Hourly Profile",BQ216,"") | AA28: =IF($AD$3="Hourly Profile",BQ247,"") | AB28: =IF($AD$3="Hourly Profile",BQ278,"") | AC28: =IF($AD$3="Hourly Profile",BQ309,"") | AD28: =IF($AD$3="Hourly Profile",BQ340,"") | AE28: =IF($AD$3="Hourly Profile",BQ371,"") | AK28: 14 | BQ28: =IFERROR(AVERAGE(AL28:BP28),"")
C29: Internal wake losses | D29: =AVERAGE(E49:E78) -> #DIV/0! | S29: 15 | T29: =IF($AD$3="Hourly Profile",BQ29,"") | U29: =IF($AD$3="Hourly Profile",BQ62,"") | V29: =IF($AD$3="Hourly Profile",BQ93,"") | W29: =IF($AD$3="Hourly Profile",BQ124,"") | X29: =IF($AD$3="Hourly Profile",BQ155,"") | Y29: =IF($AD$3="Hourly Profile",BQ186,"") | Z29: =IF($AD$3="Hourly Profile",BQ217,"") | AA29: =IF($AD$3="Hourly Profile",BQ248,"") | AB29: =IF($AD$3="Hourly Profile",BQ279,"") | AC29: =IF($AD$3="Hourly Profile",BQ310,"") | AD29: =IF($AD$3="Hourly Profile",BQ341,"") | AE29: =IF($AD$3="Hourly Profile",BQ372,"") | AK29: 15 | BQ29: =IFERROR(AVERAGE(AL29:BP29),"")
C30: External wake losses | D30: =AVERAGE(F49:F78) -> #DIV/0! | S30: 16 | T30: =IF($AD$3="Hourly Profile",BQ30,"") | U30: =IF($AD$3="Hourly Profile",BQ63,"") | V30: =IF($AD$3="Hourly Profile",BQ94,"") | W30: =IF($AD$3="Hourly Profile",BQ125,"") | X30: =IF($AD$3="Hourly Profile",BQ156,"") | Y30: =IF($AD$3="Hourly Profile",BQ187,"") | Z30: =IF($AD$3="Hourly Profile",BQ218,"") | AA30: =IF($AD$3="Hourly Profile",BQ249,"") | AB30: =IF($AD$3="Hourly Profile",BQ280,"") | AC30: =IF($AD$3="Hourly Profile",BQ311,"") | AD30: =IF($AD$3="Hourly Profile",BQ342,"") | AE30: =IF($AD$3="Hourly Profile",BQ373,"") | AK30: 16 | BQ30: =IFERROR(AVERAGE(AL30:BP30),"")
C31: Suboptimal performance losses | D31: =AVERAGE(G49:G78) -> #DIV/0! | S31: 17 | T31: =IF($AD$3="Hourly Profile",BQ31,"") | U31: =IF($AD$3="Hourly Profile",BQ64,"") | V31: =IF($AD$3="Hourly Profile",BQ95,"") | W31: =IF($AD$3="Hourly Profile",BQ126,"") | X31: =IF($AD$3="Hourly Profile",BQ157,"") | Y31: =IF($AD$3="Hourly Profile",BQ188,"") | Z31: =IF($AD$3="Hourly Profile",BQ219,"") | AA31: =IF($AD$3="Hourly Profile",BQ250,"") | AB31: =IF($AD$3="Hourly Profile",BQ281,"") | AC31: =IF($AD$3="Hourly Profile",BQ312,"") | AD31: =IF($AD$3="Hourly Profile",BQ343,"") | AE31: =IF($AD$3="Hourly Profile",BQ374,"") | AK31: 17 | BQ31: =IFERROR(AVERAGE(AL31:BP31),"")
C32: Environmental losses | D32: =AVERAGE(H49:H78) -> #DIV/0! | S32: 18 | T32: =IF($AD$3="Hourly Profile",BQ32,"") | U32: =IF($AD$3="Hourly Profile",BQ65,"") | V32: =IF($AD$3="Hourly Profile",BQ96,"") | W32: =IF($AD$3="Hourly Profile",BQ127,"") | X32: =IF($AD$3="Hourly Profile",BQ158,"") | Y32: =IF($AD$3="Hourly Profile",BQ189,"") | Z32: =IF($AD$3="Hourly Profile",BQ220,"") | AA32: =IF($AD$3="Hourly Profile",BQ251,"") | AB32: =IF($AD$3="Hourly Profile",BQ282,"") | AC32: =IF($AD$3="Hourly Profile",BQ313,"") | AD32: =IF($AD$3="Hourly Profile",BQ344,"") | AE32: =IF($AD$3="Hourly Profile",BQ375,"") | AK32: 18 | BQ32: =IFERROR(AVERAGE(AL32:BP32),"")
C33: Electrical losses to POI | D33: =AVERAGE(I49:I78) -> #DIV/0! | S33: 19 | T33: =IF($AD$3="Hourly Profile",BQ33,"") | U33: =IF($AD$3="Hourly Profile",BQ66,"") | V33: =IF($AD$3="Hourly Profile",BQ97,"") | W33: =IF($AD$3="Hourly Profile",BQ128,"") | X33: =IF($AD$3="Hourly Profile",BQ159,"") | Y33: =IF($AD$3="Hourly Profile",BQ190,"") | Z33: =IF($AD$3="Hourly Profile",BQ221,"") | AA33: =IF($AD$3="Hourly Profile",BQ252,"") | AB33: =IF($AD$3="Hourly Profile",BQ283,"") | AC33: =IF($AD$3="Hourly Profile",BQ314,"") | AD33: =IF($AD$3="Hourly Profile",BQ345,"") | AE33: =IF($AD$3="Hourly Profile",BQ376,"") | AK33: 19 | BQ33: =IFERROR(AVERAGE(AL33:BP33),"")
C34: Project downtime - planned | D34: =AVERAGE(K49:K78) -> #DIV/0! | S34: 20 | T34: =IF($AD$3="Hourly Profile",BQ34,"") | U34: =IF($AD$3="Hourly Profile",BQ67,"") | V34: =IF($AD$3="Hourly Profile",BQ98,"") | W34: =IF($AD$3="Hourly Profile",BQ129,"") | X34: =IF($AD$3="Hourly Profile",BQ160,"") | Y34: =IF($AD$3="Hourly Profile",BQ191,"") | Z34: =IF($AD$3="Hourly Profile",BQ222,"") | AA34: =IF($AD$3="Hourly Profile",BQ253,"") | AB34: =IF($AD$3="Hourly Profile",BQ284,"") | AC34: =IF($AD$3="Hourly Profile",BQ315,"") | AD34: =IF($AD$3="Hourly Profile",BQ346,"") | AE34: =IF($AD$3="Hourly Profile",BQ377,"") | AK34: 20 | BQ34: =IFERROR(AVERAGE(AL34:BP34),"")
C35: Turbine downtime - unplanned | D35: =AVERAGE(L49:L78) -> 1 | S35: 21 | T35: =IF($AD$3="Hourly Profile",BQ35,"") | U35: =IF($AD$3="Hourly Profile",BQ68,"") | V35: =IF($AD$3="Hourly Profile",BQ99,"") | W35: =IF($AD$3="Hourly Profile",BQ130,"") | X35: =IF($AD$3="Hourly Profile",BQ161,"") | Y35: =IF($AD$3="Hourly Profile",BQ192,"") | Z35: =IF($AD$3="Hourly Profile",BQ223,"") | AA35: =IF($AD$3="Hourly Profile",BQ254,"") | AB35: =IF($AD$3="Hourly Profile",BQ285,"") | AC35: =IF($AD$3="Hourly Profile",BQ316,"") | AD35: =IF($AD$3="Hourly Profile",BQ347,"") | AE35: =IF($AD$3="Hourly Profile",BQ378,"") | AK35: 21 | BQ35: =IFERROR(AVERAGE(AL35:BP35),"")
C36: Balance of plant downtime - unplanned | D36: =AVERAGE(M49:M78) -> 1 | S36: 22 | T36: =IF($AD$3="Hourly Profile",BQ36,"") | U36: =IF($AD$3="Hourly Profile",BQ69,"") | V36: =IF($AD$3="Hourly Profile",BQ100,"") | W36: =IF($AD$3="Hourly Profile",BQ131,"") | X36: =IF($AD$3="Hourly Profile",BQ162,"") | Y36: =IF($AD$3="Hourly Profile",BQ193,"") | Z36: =IF($AD$3="Hourly Profile",BQ224,"") | AA36: =IF($AD$3="Hourly Profile",BQ255,"") | AB36: =IF($AD$3="Hourly Profile",BQ286,"") | AC36: =IF($AD$3="Hourly Profile",BQ317,"") | AD36: =IF($AD$3="Hourly Profile",BQ348,"") | AE36: =IF($AD$3="Hourly Profile",BQ379,"") | AK36: 22 | BQ36: =IFERROR(AVERAGE(AL36:BP36),"")
S37: 23 | T37: =IF($AD$3="Hourly Profile",BQ37,"") | U37: =IF($AD$3="Hourly Profile",BQ70,"") | V37: =IF($AD$3="Hourly Profile",BQ101,"") | W37: =IF($AD$3="Hourly Profile",BQ132,"") | X37: =IF($AD$3="Hourly Profile",BQ163,"") | Y37: =IF($AD$3="Hourly Profile",BQ194,"") | Z37: =IF($AD$3="Hourly Profile",BQ225,"") | AA37: =IF($AD$3="Hourly Profile",BQ256,"") | AB37: =IF($AD$3="Hourly Profile",BQ287,"") | AC37: =IF($AD$3="Hourly Profile",BQ318,"") | AD37: =IF($AD$3="Hourly Profile",BQ349,"") | AE37: =IF($AD$3="Hourly Profile",BQ380,"") | AK37: 23 | BQ37: =IFERROR(AVERAGE(AL37:BP37),"")
C38: P50 Net energy (annual 30-year average) | D38: =AVERAGE(N49:N78) -> #DIV/0! | E38: MWh/year | S38: 24 | T38: =IF($AD$3="Hourly Profile",BQ38,"") | U38: =IF($AD$3="Hourly Profile",BQ71,"") | V38: =IF($AD$3="Hourly Profile",BQ102,"") | W38: =IF($AD$3="Hourly Profile",BQ133,"") | X38: =IF($AD$3="Hourly Profile",BQ164,"") | Y38: =IF($AD$3="Hourly Profile",BQ195,"") | Z38: =IF($AD$3="Hourly Profile",BQ226,"") | AA38: =IF($AD$3="Hourly Profile",BQ257,"") | AB38: =IF($AD$3="Hourly Profile",BQ288,"") | AC38: =IF($AD$3="Hourly Profile",BQ319,"") | AD38: =IF($AD$3="Hourly Profile",BQ350,"") | AE38: =IF($AD$3="Hourly Profile",BQ381,"") | AK38: 24 | BQ38: =IFERROR(AVERAGE(AL38:BP38),"")
C39: P50 Net capacity factor | D39: =D38/(8.76*D19*D20) -> #DIV/0!
C41: 1-year P99 Net energy | E41: GWh/year
C42: 1-year P99 Net capacity factor
R44: ='Part I-Instuctions'!B3 -> Duke OSW ARFI Submission Uptake Form_UPDATED 04.17.2025 | AJ44: FEBRUARY
C45: Column ID | D45: (i) | E45: (ii) | F45: (iii) | G45: (iv) | H45: (v) | I45: (vi) | J45: (vii) | K45: (viii) | L45: (ix) | M45: (x) | N45: (xi) | R45: Part VI (b)
...

Sheet Part VI - Prod Data (Phase 2)
B3: ='Part I-Instuctions'!B3 -> Duke OSW ARFI Submission Uptake Form_UPDATED 04.17.2025 | R3: ='Part I-Instuctions'!B3 -> Duke OSW ARFI Submission Uptake Form_UPDATED 04.17.2025 | AD3: Hourly Profile | AJ3: ='Part I-Instuctions'!B3 -> Duke OSW ARFI Submission Uptake Form_UPDATED 04.17.2025
B4: Part VI | R4: Part VI (a) | AJ4: Part VI (a) (i)
B5: Prodution Data | R5: Operational Information - Production Data of Offshore Wind Project | AJ5: Representative Deliveries in Representative Year
R6: Hourly Delivery in MW (Averaged) - 12 Months by 24 Hours For Representative Day For Each Month | AK6: Enter data for a single year representative of the Project's 30-year average production
AL7: Projects must provide 8,760 hourly energy production data. From the hourly energy production data, the 30-year average in MW, inclusive of wake losses, suboptimal performance, environmental losses and electrical losses will be calculated automatically and will populate Part VI(a). For the avoidance of doubt, hourly production values should represent energy delivered to the POI assuming 100% turbine and balance of plant availability.
S8: You must insert an Hourly Profile, do so to the right by completing VI(a)(i). Table Part VI (a) below will be populated automatically from your data entered in Part V(a)(i), creating the project's 12 x 24 annual energy production inclusive of wake losses, suboptimal performance, environmental losses, and electrical losses. Downtime associated with O&M including planned or unplanned maintenance is not included and will be covered by Part VI (b) and Part VI (c) below.
C10: Legend | AL10: Check: | AM10: =IF($BR$14=8760,"OK","8,760 Hourly Values Missing") -> 8,760 Hourly Values Missing
D11: Grey cell is automatically calculated | AI11: =IF(AG14<(12*24),"Table VI(a) is incomplete, please enter all hourly profiles in VI (a) (i) >>>","OK") -> Table VI(a) is incomplete, please enter all hourly profiles in VI (a) (i) >>> | AJ11: JANUARY
D12: White cell is to be updated by the WEA Leaseholder
C13: =AVERAGE(J49:J78)-(SUM(AL15:BP38)+SUM(AL48:BN71)+SUM(AL79:BP102)+SUM(AL110:BO133)+SUM(AL141:BP164)+SUM(AL172:BO195)+SUM(AL203:BP226)+SUM(AL234:BP257)+SUM(AL265:BO288)+SUM(AL296:BP319)+SUM(AL327:BO350)+SUM(AL358:BP381)) -> 0 | D13: If sheet is filled out correctly, value to the immediate left should be zero | AK13: HE | AL13: 1 | AM13: 2 | AN13: 3 | AO13: 4 | AP13: 5 | AQ13: 6 | AR13: 7 | AS13: 8 | AT13: 9 | AU13: 10 | AV13: 11 | AW13: 12 | AX13: 13 | AY13: 14 | AZ13: 15 | BA13: 16 | BB13: 17 | BC13: 18 | BD13: 19 | BE13: 20 | BF13: 21 | BG13: 22 | BH13: 23 | BI13: 24 | BJ13: 25 | BK13: 26 | BL13: 27 | BM13: 28 | BN13: 29 | BO13: 30 | BP13: 31 | BQ13: Month
D14: Pre-populated | S14: HE | T14: Jan | U14: Feb | V14: Mar | W14: Apr | X14: May | Y14: Jun | Z14: Jul | AA14: Aug | AB14: Sep | AC14: Oct | AD14: Nov | AE14: Dec | AG14: =COUNT(T15:AE38) -> 0 | BQ14: Avg | BR14: =COUNT(AL15:BP38,AL48:BN71,AL79:BP102,AL110:BO133,AL141:BP164,AL172:BO195,AL203:BP226,AL234:BP257,AL265:BO288,AL296:BP319,AL327:BO350,AL358:BP381) -> 0
S15: 1 | T15: =IF($AD$3="Hourly Profile",BQ15,"") | U15: =IF($AD$3="Hourly Profile",BQ48,"") | V15: =IF($AD$3="Hourly Profile",BQ79,"") | W15: =IF($AD$3="Hourly Profile",BQ110,"") | X15: =IF($AD$3="Hourly Profile",BQ141,"") | Y15: =IF($AD$3="Hourly Profile",BQ172,"") | Z15: =IF($AD$3="Hourly Profile",BQ203,"") | AA15: =IF($AD$3="Hourly Profile",BQ234,"") | AB15: =IF($AD$3="Hourly Profile",BQ265,"") | AC15: =IF($AD$3="Hourly Profile",BQ296,"") | AD15: =IF($AD$3="Hourly Profile",BQ327,"") | AE15: =IF($AD$3="Hourly Profile",BQ358,"") | AK15: 1 | BQ15: =IFERROR(AVERAGE(AL15:BP15),"")
C16: Complete the fields below | S16: 2 | T16: =IF($AD$3="Hourly Profile",BQ16,"") | U16: =IF($AD$3="Hourly Profile",BQ49,"") | V16: =IF($AD$3="Hourly Profile",BQ80,"") | W16: =IF($AD$3="Hourly Profile",BQ111,"") | X16: =IF($AD$3="Hourly Profile",BQ142,"") | Y16: =IF($AD$3="Hourly Profile",BQ173,"") | Z16: =IF($AD$3="Hourly Profile",BQ204,"") | AA16: =IF($AD$3="Hourly Profile",BQ235,"") | AB16: =IF($AD$3="Hourly Profile",BQ266,"") | AC16: =IF($AD$3="Hourly Profile",BQ297,"") | AD16: =IF($AD$3="Hourly Profile",BQ328,"") | AE16: =IF($AD$3="Hourly Profile",BQ359,"") | AK16: 2 | BQ16: =IFERROR(AVERAGE(AL16:BP16),"")
C17: Eligible Facility Location | E17: Latitude | S17: 3 | T17: =IF($AD$3="Hourly Profile",BQ17,"") | U17: =IF($AD$3="Hourly Profile",BQ50,"") | V17: =IF($AD$3="Hourly Profile",BQ81,"") | W17: =IF($AD$3="Hourly Profile",BQ112,"") | X17: =IF($AD$3="Hourly Profile",BQ143,"") | Y17: =IF($AD$3="Hourly Profile",BQ174,"") | Z17: =IF($AD$3="Hourly Profile",BQ205,"") | AA17: =IF($AD$3="Hourly Profile",BQ236,"") | AB17: =IF($AD$3="Hourly Profile",BQ267,"") | AC17: =IF($AD$3="Hourly Profile",BQ298,"") | AD17: =IF($AD$3="Hourly Profile",BQ329,"") | AE17: =IF($AD$3="Hourly Profile",BQ360,"") | AK17: 3 | BQ17: =IFERROR(AVERAGE(AL17:BP17),"")
E18: Longitude | S18: 4 | T18: =IF($AD$3="Hourly Profile",BQ18,"") | U18: =IF($AD$3="Hourly Profile",BQ51,"") | V18: =IF($AD$3="Hourly Profile",BQ82,"") | W18: =IF($AD$3="Hourly Profile",BQ113,"") | X18: =IF($AD$3="Hourly Profile",BQ144,"") | Y18: =IF($AD$3="Hourly Profile",BQ175,"") | Z18: =IF($AD$3="Hourly Profile",BQ206,"") | AA18: =IF($AD$3="Hourly Profile",BQ237,"") | AB18: =IF($AD$3="Hourly Profile",BQ268,"") | AC18: =IF($AD$3="Hourly Profile",BQ299,"") | AD18: =IF($AD$3="Hourly Profile",BQ330,"") | AE18: =IF($AD$3="Hourly Profile",BQ361,"") | AK18: 4 | BQ18: =IFERROR(AVERAGE(AL18:BP18),"")
C19: Turbine capacity | E19: MW | S19: 5 | T19: =IF($AD$3="Hourly Profile",BQ19,"") | U19: =IF($AD$3="Hourly Profile",BQ52,"") | V19: =IF($AD$3="Hourly Profile",BQ83,"") | W19: =IF($AD$3="Hourly Profile",BQ114,"") | X19: =IF($AD$3="Hourly Profile",BQ145,"") | Y19: =IF($AD$3="Hourly Profile",BQ176,"") | Z19: =IF($AD$3="Hourly Profile",BQ207,"") | AA19: =IF($AD$3="Hourly Profile",BQ238,"") | AB19: =IF($AD$3="Hourly Profile",BQ269,"") | AC19: =IF($AD$3="Hourly Profile",BQ300,"") | AD19: =IF($AD$3="Hourly Profile",BQ331,"") | AE19: =IF($AD$3="Hourly Profile",BQ362,"") | AG19: =IF(AND(AG18<288,AD3="12 Months by 24 Hours"),"<<< Full Matrix is Required Information","") | AK19: 5 | BQ19: =IFERROR(AVERAGE(AL19:BP19),"")
C20: Number of turbines | E20: # | S20: 6 | T20: =IF($AD$3="Hourly Profile",BQ20,"") | U20: =IF($AD$3="Hourly Profile",BQ53,"") | V20: =IF($AD$3="Hourly Profile",BQ84,"") | W20: =IF($AD$3="Hourly Profile",BQ115,"") | X20: =IF($AD$3="Hourly Profile",BQ146,"") | Y20: =IF($AD$3="Hourly Profile",BQ177,"") | Z20: =IF($AD$3="Hourly Profile",BQ208,"") | AA20: =IF($AD$3="Hourly Profile",BQ239,"") | AB20: =IF($AD$3="Hourly Profile",BQ270,"") | AC20: =IF($AD$3="Hourly Profile",BQ301,"") | AD20: =IF($AD$3="Hourly Profile",BQ332,"") | AE20: =IF($AD$3="Hourly Profile",BQ363,"") | AK20: 6 | BQ20: =IFERROR(AVERAGE(AL20:BP20),"")
C21: Hub height | E21: m | S21: 7 | T21: =IF($AD$3="Hourly Profile",BQ21,"") | U21: =IF($AD$3="Hourly Profile",BQ54,"") | V21: =IF($AD$3="Hourly Profile",BQ85,"") | W21: =IF($AD$3="Hourly Profile",BQ116,"") | X21: =IF($AD$3="Hourly Profile",BQ147,"") | Y21: =IF($AD$3="Hourly Profile",BQ178,"") | Z21: =IF($AD$3="Hourly Profile",BQ209,"") | AA21: =IF($AD$3="Hourly Profile",BQ240,"") | AB21: =IF($AD$3="Hourly Profile",BQ271,"") | AC21: =IF($AD$3="Hourly Profile",BQ302,"") | AD21: =IF($AD$3="Hourly Profile",BQ333,"") | AE21: =IF($AD$3="Hourly Profile",BQ364,"") | AK21: 7 | BQ21: =IFERROR(AVERAGE(AL21:BP21),"")
S22: 8 | T22: =IF($AD$3="Hourly Profile",BQ22,"") | U22: =IF($AD$3="Hourly Profile",BQ55,"") | V22: =IF($AD$3="Hourly Profile",BQ86,"") | W22: =IF($AD$3="Hourly Profile",BQ117,"") | X22: =IF($AD$3="Hourly Profile",BQ148,"") | Y22: =IF($AD$3="Hourly Profile",BQ179,"") | Z22: =IF($AD$3="Hourly Profile",BQ210,"") | AA22: =IF($AD$3="Hourly Profile",BQ241,"") | AB22: =IF($AD$3="Hourly Profile",BQ272,"") | AC22: =IF($AD$3="Hourly Profile",BQ303,"") | AD22: =IF($AD$3="Hourly Profile",BQ334,"") | AE22: =IF($AD$3="Hourly Profile",BQ365,"") | AK22: 8 | BQ22: =IFERROR(AVERAGE(AL22:BP22),"")
C23: Annual average wind speed at hub height across turbine locations | S23: 9 | T23: =IF($AD$3="Hourly Profile",BQ23,"") | U23: =IF($AD$3="Hourly Profile",BQ56,"") | V23: =IF($AD$3="Hourly Profile",BQ87,"") | W23: =IF($AD$3="Hourly Profile",BQ118,"") | X23: =IF($AD$3="Hourly Profile",BQ149,"") | Y23: =IF($AD$3="Hourly Profile",BQ180,"") | Z23: =IF($AD$3="Hourly Profile",BQ211,"") | AA23: =IF($AD$3="Hourly Profile",BQ242,"") | AB23: =IF($AD$3="Hourly Profile",BQ273,"") | AC23: =IF($AD$3="Hourly Profile",BQ304,"") | AD23: =IF($AD$3="Hourly Profile",BQ335,"") | AE23: =IF($AD$3="Hourly Profile",BQ366,"") | AK23: 9 | BQ23: =IFERROR(AVERAGE(AL23:BP23),"")
E24: m/s | S24: 10 | T24: =IF($AD$3="Hourly Profile",BQ24,"") | U24: =IF($AD$3="Hourly Profile",BQ57,"") | V24: =IF($AD$3="Hourly Profile",BQ88,"") | W24: =IF($AD$3="Hourly Profile",BQ119,"") | X24: =IF($AD$3="Hourly Profile",BQ150,"") | Y24: =IF($AD$3="Hourly Profile",BQ181,"") | Z24: =IF($AD$3="Hourly Profile",BQ212,"") | AA24: =IF($AD$3="Hourly Profile",BQ243,"") | AB24: =IF($AD$3="Hourly Profile",BQ274,"") | AC24: =IF($AD$3="Hourly Profile",BQ305,"") | AD24: =IF($AD$3="Hourly Profile",BQ336,"") | AE24: =IF($AD$3="Hourly Profile",BQ367,"") | AK24: 10 | BQ24: =IFERROR(AVERAGE(AL24:BP24),"")
S25: 11 | T25: =IF($AD$3="Hourly Profile",BQ25,"") | U25: =IF($AD$3="Hourly Profile",BQ58,"") | V25: =IF($AD$3="Hourly Profile",BQ89,"") | W25: =IF($AD$3="Hourly Profile",BQ120,"") | X25: =IF($AD$3="Hourly Profile",BQ151,"") | Y25: =IF($AD$3="Hourly Profile",BQ182,"") | Z25: =IF($AD$3="Hourly Profile",BQ213,"") | AA25: =IF($AD$3="Hourly Profile",BQ244,"") | AB25: =IF($AD$3="Hourly Profile",BQ275,"") | AC25: =IF($AD$3="Hourly Profile",BQ306,"") | AD25: =IF($AD$3="Hourly Profile",BQ337,"") | AE25: =IF($AD$3="Hourly Profile",BQ368,"") | AK25: 11 | BQ25: =IFERROR(AVERAGE(AL25:BP25),"")
C26: Gross energy (annual 30-year average) | D26: =AVERAGE(D49:D78) -> #DIV/0! | E26: MWh/year | S26: 12 | T26: =IF($AD$3="Hourly Profile",BQ26,"") | U26: =IF($AD$3="Hourly Profile",BQ59,"") | V26: =IF($AD$3="Hourly Profile",BQ90,"") | W26: =IF($AD$3="Hourly Profile",BQ121,"") | X26: =IF($AD$3="Hourly Profile",BQ152,"") | Y26: =IF($AD$3="Hourly Profile",BQ183,"") | Z26: =IF($AD$3="Hourly Profile",BQ214,"") | AA26: =IF($AD$3="Hourly Profile",BQ245,"") | AB26: =IF($AD$3="Hourly Profile",BQ276,"") | AC26: =IF($AD$3="Hourly Profile",BQ307,"") | AD26: =IF($AD$3="Hourly Profile",BQ338,"") | AE26: =IF($AD$3="Hourly Profile",BQ369,"") | AK26: 12 | BQ26: =IFERROR(AVERAGE(AL26:BP26),"")
S27: 13 | T27: =IF($AD$3="Hourly Profile",BQ27,"") | U27: =IF($AD$3="Hourly Profile",BQ60,"") | V27: =IF($AD$3="Hourly Profile",BQ91,"") | W27: =IF($AD$3="Hourly Profile",BQ122,"") | X27: =IF($AD$3="Hourly Profile",BQ153,"") | Y27: =IF($AD$3="Hourly Profile",BQ184,"") | Z27: =IF($AD$3="Hourly Profile",BQ215,"") | AA27: =IF($AD$3="Hourly Profile",BQ246,"") | AB27: =IF($AD$3="Hourly Profile",BQ277,"") | AC27: =IF($AD$3="Hourly Profile",BQ308,"") | AD27: =IF($AD$3="Hourly Profile",BQ339,"") | AE27: =IF($AD$3="Hourly Profile",BQ370,"") | AK27: 13 | BQ27: =IFERROR(AVERAGE(AL27:BP27),"")
C28: Annual average losses | S28: 14 | T28: =IF($AD$3="Hourly Profile",BQ28,"") | U28: =IF($AD$3="Hourly Profile",BQ61,"") | V28: =IF($AD$3="Hourly Profile",BQ92,"") | W28: =IF($AD$3="Hourly Profile",BQ123,"") | X28: =IF($AD$3="Hourly Profile",BQ154,"") | Y28: =IF($AD$3="Hourly Profile",BQ185,"") | Z28: =IF($AD$3="Hourly Profile",BQ216,"") | AA28: =IF($AD$3="Hourly Profile",BQ247,"") | AB28: =IF($AD$3="Hourly Profile",BQ278,"") | AC28: =IF($AD$3="Hourly Profile",BQ309,"") | AD28: =IF($AD$3="Hourly Profile",BQ340,"") | AE28: =IF($AD$3="Hourly Profile",BQ371,"") | AK28: 14 | BQ28: =IFERROR(AVERAGE(AL28:BP28),"")
C29: Internal wake losses | D29: =AVERAGE(E49:E78) -> #DIV/0! | S29: 15 | T29: =IF($AD$3="Hourly Profile",BQ29,"") | U29: =IF($AD$3="Hourly Profile",BQ62,"") | V29: =IF($AD$3="Hourly Profile",BQ93,"") | W29: =IF($AD$3="Hourly Profile",BQ124,"") | X29: =IF($AD$3="Hourly Profile",BQ155,"") | Y29: =IF($AD$3="Hourly Profile",BQ186,"") | Z29: =IF($AD$3="Hourly Profile",BQ217,"") | AA29: =IF($AD$3="Hourly Profile",BQ248,"") | AB29: =IF($AD$3="Hourly Profile",BQ279,"") | AC29: =IF($AD$3="Hourly Profile",BQ310,"") | AD29: =IF($AD$3="Hourly Profile",BQ341,"") | AE29: =IF($AD$3="Hourly Profile",BQ372,"") | AK29: 15 | BQ29: =IFERROR(AVERAGE(AL29:BP29),"")
C30: External wake losses | D30: =AVERAGE(F49:F78) -> #DIV/0! | S30: 16 | T30: =IF($AD$3="Hourly Profile",BQ30,"") | U30: =IF($AD$3="Hourly Profile",BQ63,"") | V30: =IF($AD$3="Hourly Profile",BQ94,"") | W30: =IF($AD$3="Hourly Profile",BQ125,"") | X30: =IF($AD$3="Hourly Profile",BQ156,"") | Y30: =IF($AD$3="Hourly Profile",BQ187,"") | Z30: =IF($AD$3="Hourly Profile",BQ218,"") | AA30: =IF($AD$3="Hourly Profile",BQ249,"") | AB30: =IF($AD$3="Hourly Profile",BQ280,"") | AC30: =IF($AD$3="Hourly Profile",BQ311,"") | AD30: =IF($AD$3="Hourly Profile",BQ342,"") | AE30: =IF($AD$3="Hourly Profile",BQ373,"") | AK30: 16 | BQ30: =IFERROR(AVERAGE(AL30:BP30),"")
C31: Suboptimal performance losses | D31: =AVERAGE(G49:G78) -> #DIV/0! | S31: 17 | T31: =IF($AD$3="Hourly Profile",BQ31,"") | U31: =IF($AD$3="Hourly Profile",BQ64,"") | V31: =IF($AD$3="Hourly Profile",BQ95,"") | W31: =IF($AD$3="Hourly Profile",BQ126,"") | X31: =IF($AD$3="Hourly Profile",BQ157,"") | Y31: =IF($AD$3="Hourly Profile",BQ188,"") | Z31: =IF($AD$3="Hourly Profile",BQ219,"") | AA31: =IF($AD$3="Hourly Profile",BQ250,"") | AB31: =IF($AD$3="Hourly Profile",BQ281,"") | AC31: =IF($AD$3="Hourly Profile",BQ312,"") | AD31: =IF($AD$3="Hourly Profile",BQ343,"") | AE31: =IF($AD$3="Hourly Profile",BQ374,"") | AK31: 17 | BQ31: =IFERROR(AVERAGE(AL31:BP31),"")
C32: Environmental losses | D32: =AVERAGE(H49:H78) -> #DIV/0! | S32: 18 | T32: =IF($AD$3="Hourly Profile",BQ32,"") | U32: =IF($AD$3="Hourly Profile",BQ65,"") | V32: =IF($AD$3="Hourly Profile",BQ96,"") | W32: =IF($AD$3="Hourly Profile",BQ127,"") | X32: =IF($AD$3="Hourly Profile",BQ158,"") | Y32: =IF($AD$3="Hourly Profile",BQ189,"") | Z32: =IF($AD$3="Hourly Profile",BQ220,"") | AA32: =IF($AD$3="Hourly Profile",BQ251,"") | AB32: =IF($AD$3="Hourly Profile",BQ282,"") | AC32: =IF($AD$3="Hourly Profile",BQ313,"") | AD32: =IF($AD$3="Hourly Profile",BQ344,"") | AE32: =IF($AD$3="Hourly Profile",BQ375,"") | AK32: 18 | BQ32: =IFERROR(AVERAGE(AL32:BP32),"")
C33: Electrical losses to POI | D33: =AVERAGE(I49:I78) -> #DIV/0! | S33: 19 | T33: =IF($AD$3="Hourly Profile",BQ33,"") | U33: =IF($AD$3="Hourly Profile",BQ66,"") | V33: =IF($AD$3="Hourly Profile",BQ97,"") | W33: =IF($AD$3="Hourly Profile",BQ128,"") | X33: =IF($AD$3="Hourly Profile",BQ159,"") | Y33: =IF($AD$3="Hourly Profile",BQ190,"") | Z33: =IF($AD$3="Hourly Profile",BQ221,"") | AA33: =IF($AD$3="Hourly Profile",BQ252,"") | AB33: =IF($AD$3="Hourly Profile",BQ283,"") | AC33: =IF($AD$3="Hourly Profile",BQ314,"") | AD33: =IF($AD$3="Hourly Profile",BQ345,"") | AE33: =IF($AD$3="Hourly Profile",BQ376,"") | AK33: 19 | BQ33: =IFERROR(AVERAGE(AL33:BP33),"")
C34: Project downtime - planned | D34: =AVERAGE(K49:K78) -> #DIV/0! | S34: 20 | T34: =IF($AD$3="Hourly Profile",BQ34,"") | U34: =IF($AD$3="Hourly Profile",BQ67,"") | V34: =IF($AD$3="Hourly Profile",BQ98,"") | W34: =IF($AD$3="Hourly Profile",BQ129,"") | X34: =IF($AD$3="Hourly Profile",BQ160,"") | Y34: =IF($AD$3="Hourly Profile",BQ191,"") | Z34: =IF($AD$3="Hourly Profile",BQ222,"") | AA34: =IF($AD$3="Hourly Profile",BQ253,"") | AB34: =IF($AD$3="Hourly Profile",BQ284,"") | AC34: =IF($AD$3="Hourly Profile",BQ315,"") | AD34: =IF($AD$3="Hourly Profile",BQ346,"") | AE34: =IF($AD$3="Hourly Profile",BQ377,"") | AK34: 20 | BQ34: =IFERROR(AVERAGE(AL34:BP34),"")
C35: Turbine downtime - unplanned | D35: =AVERAGE(L49:L78) -> 1 | S35: 21 | T35: =IF($AD$3="Hourly Profile",BQ35,"") | U35: =IF($AD$3="Hourly Profile",BQ68,"") | V35: =IF($AD$3="Hourly Profile",BQ99,"") | W35: =IF($AD$3="Hourly Profile",BQ130,"") | X35: =IF($AD$3="Hourly Profile",BQ161,"") | Y35: =IF($AD$3="Hourly Profile",BQ192,"") | Z35: =IF($AD$3="Hourly Profile",BQ223,"") | AA35: =IF($AD$3="Hourly Profile",BQ254,"") | AB35: =IF($AD$3="Hourly Profile",BQ285,"") | AC35: =IF($AD$3="Hourly Profile",BQ316,"") | AD35: =IF($AD$3="Hourly Profile",BQ347,"") | AE35: =IF($AD$3="Hourly Profile",BQ378,"") | AK35: 21 | BQ35: =IFERROR(AVERAGE(AL35:BP35),"")
C36: Balance of plant downtime - unplanned | D36: =AVERAGE(M49:M78) -> 1 | S36: 22 | T36: =IF($AD$3="Hourly Profile",BQ36,"") | U36: =IF($AD$3="Hourly Profile",BQ69,"") | V36: =IF($AD$3="Hourly Profile",BQ100,"") | W36: =IF($AD$3="Hourly Profile",BQ131,"") | X36: =IF($AD$3="Hourly Profile",BQ162,"") | Y36: =IF($AD$3="Hourly Profile",BQ193,"") | Z36: =IF($AD$3="Hourly Profile",BQ224,"") | AA36: =IF($AD$3="Hourly Profile",BQ255,"") | AB36: =IF($AD$3="Hourly Profile",BQ286,"") | AC36: =IF($AD$3="Hourly Profile",BQ317,"") | AD36: =IF($AD$3="Hourly Profile",BQ348,"") | AE36: =IF($AD$3="Hourly Profile",BQ379,"") | AK36: 22 | BQ36: =IFERROR(AVERAGE(AL36:BP36),"")
S37: 23 | T37: =IF($AD$3="Hourly Profile",BQ37,"") | U37: =IF($AD$3="Hourly Profile",BQ70,"") | V37: =IF($AD$3="Hourly Profile",BQ101,"") | W37: =IF($AD$3="Hourly Profile",BQ132,"") | X37: =IF($AD$3="Hourly Profile",BQ163,"") | Y37: =IF($AD$3="Hourly Profile",BQ194,"") | Z37: =IF($AD$3="Hourly Profile",BQ225,"") | AA37: =IF($AD$3="Hourly Profile",BQ256,"") | AB37: =IF($AD$3="Hourly Profile",BQ287,"") | AC37: =IF($AD$3="Hourly Profile",BQ318,"") | AD37: =IF($AD$3="Hourly Profile",BQ349,"") | AE37: =IF($AD$3="Hourly Profile",BQ380,"") | AK37: 23 | BQ37: =IFERROR(AVERAGE(AL37:BP37),"")
C38: P50 Net energy (annual 30-year average) | D38: =AVERAGE(N49:N78) -> #DIV/0! | E38: MWh/year | S38: 24 | T38: =IF($AD$3="Hourly Profile",BQ38,"") | U38: =IF($AD$3="Hourly Profile",BQ71,"") | V38: =IF($AD$3="Hourly Profile",BQ102,"") | W38: =IF($AD$3="Hourly Profile",BQ133,"") | X38: =IF($AD$3="Hourly Profile",BQ164,"") | Y38: =IF($AD$3="Hourly Profile",BQ195,"") | Z38: =IF($AD$3="Hourly Profile",BQ226,"") | AA38: =IF($AD$3="Hourly Profile",BQ257,"") | AB38: =IF($AD$3="Hourly Profile",BQ288,"") | AC38: =IF($AD$3="Hourly Profile",BQ319,"") | AD38: =IF($AD$3="Hourly Profile",BQ350,"") | AE38: =IF($AD$3="Hourly Profile",BQ381,"") | AK38: 24 | BQ38: =IFERROR(AVERAGE(AL38:BP38),"")
C39: P50 Net capacity factor | D39: =D38/(8.76*D19*D20) -> #DIV/0!
C41: 1-year P99 Net energy | E41: GWh/year
C42: 1-year P99 Net capacity factor
R44: ='Part I-Instuctions'!B3 -> Duke OSW ARFI Submission Uptake Form_UPDATED 04.17.2025 | AJ44: FEBRUARY
C45: Column ID | D45: (i) | E45: (ii) | F45: (iii) | G45: (iv) | H45: (v) | I45: (vi) | J45: (vii) | K45: (viii) | L45: (ix) | M45: (x) | N45: (xi) | R45: Part VI (b)
...
